BEGIN:VCALENDAR
VERSION:2.0
PRODID:-//Tukios.com/
BEGIN:VEVENT
UID:a5033328-8757-48c7-b32b-ab4b57c6380e@www.salazarfunerals.com
DTSTAMP:20260422T185844Z
DTSTART:20260427T210000Z
DTEND:20260428T010000Z
SUMMARY:Visitation
DESCRIPTION:
URL:https://www.salazarfunerals.com/obituaries/pat-gonzales
LOCATION: 400 3rd St SW  Albuquerque NM 87102
GEO:35.0812235;-106.6507111
END:VEVENT
END:VCALENDAR