BEGIN:VCALENDAR
VERSION:2.0
PRODID:-//Tukios.com/
BEGIN:VEVENT
UID:28a6981d-8a6b-4362-aa9e-45e4a985407a@www.salazarfunerals.com
DTSTAMP:20260422T185610Z
DTSTART:20260428T143000Z
DTEND:20260428T150000Z
SUMMARY:Final Viewing
DESCRIPTION:
URL:https://www.salazarfunerals.com/obituaries/pat-gonzales
LOCATION: 400 3rd St SW  Albuquerque NM 87102
GEO:35.0812235;-106.6507111
END:VEVENT
END:VCALENDAR