BEGIN:VCALENDAR
VERSION:2.0
PRODID:-//Tukios.com/
BEGIN:VEVENT
UID:e04a0607-e020-4c0e-8215-d57d2a9a8c1f@www.salazarfunerals.com
DTSTAMP:20260422T190247Z
DTSTART:20260428T160000Z
DTEND:20260428T170000Z
SUMMARY:Mass
DESCRIPTION:
URL:https://www.salazarfunerals.com/obituaries/pat-gonzales
LOCATION: 2005 North Plaza Street Northwest  Albuquerque NM 87104
GEO:35.0966999;-106.6699587
END:VEVENT
END:VCALENDAR