BEGIN:VCALENDAR
VERSION:2.0
PRODID:-//Tukios.com/
BEGIN:VEVENT
UID:d6f4b2cd-4b01-40af-b1fa-12ea5817ff44@www.salazarfunerals.com
DTSTAMP:20260422T185722Z
DTSTART:20260428T173000Z
DTEND:20260428T180000Z
SUMMARY:Burial
DESCRIPTION:
URL:https://www.salazarfunerals.com/obituaries/pat-gonzales
LOCATION: 1900 Edith Boulevard Northeast  Albuquerque NM 87102
GEO:35.1018254;-106.6357618
END:VEVENT
END:VCALENDAR