BEGIN:VCALENDAR
VERSION:2.0
PRODID:-//Tukios.com/
BEGIN:VEVENT
UID:b30b484e-aaae-4ac3-81fd-554888d63e88@www.salazarfunerals.com
DTSTAMP:20260422T185728Z
DTSTART:20260428T010000Z
DTEND:20260428T013000Z
SUMMARY:Rosary
DESCRIPTION:
URL:https://www.salazarfunerals.com/obituaries/pat-gonzales
LOCATION: 400 3rd St SW  Albuquerque NM 87102
GEO:35.0812235;-106.6507111
END:VEVENT
END:VCALENDAR